BEGIN:VCALENDAR
VERSION:2.0
PRODID:-//EKG-Coaching mit Thomas Peter - ECPv6.15.20//NONSGML v1.0//EN
CALSCALE:GREGORIAN
METHOD:PUBLISH
X-ORIGINAL-URL:https://ekg-coach.de
X-WR-CALDESC:Veranstaltungen für EKG-Coaching mit Thomas Peter
REFRESH-INTERVAL;VALUE=DURATION:PT1H
X-Robots-Tag:noindex
X-PUBLISHED-TTL:PT1H
BEGIN:VTIMEZONE
TZID:Africa/Abidjan
BEGIN:STANDARD
TZOFFSETFROM:+0000
TZOFFSETTO:+0000
TZNAME:GMT
DTSTART:20190101T000000
END:STANDARD
END:VTIMEZONE
BEGIN:VTIMEZONE
TZID:Europe/Berlin
BEGIN:DAYLIGHT
TZOFFSETFROM:+0100
TZOFFSETTO:+0200
TZNAME:CEST
DTSTART:20190331T010000
END:DAYLIGHT
BEGIN:STANDARD
TZOFFSETFROM:+0200
TZOFFSETTO:+0100
TZNAME:CET
DTSTART:20191027T010000
END:STANDARD
BEGIN:DAYLIGHT
TZOFFSETFROM:+0100
TZOFFSETTO:+0200
TZNAME:CEST
DTSTART:20200329T010000
END:DAYLIGHT
BEGIN:STANDARD
TZOFFSETFROM:+0200
TZOFFSETTO:+0100
TZNAME:CET
DTSTART:20201025T010000
END:STANDARD
BEGIN:DAYLIGHT
TZOFFSETFROM:+0100
TZOFFSETTO:+0200
TZNAME:CEST
DTSTART:20210328T010000
END:DAYLIGHT
BEGIN:STANDARD
TZOFFSETFROM:+0200
TZOFFSETTO:+0100
TZNAME:CET
DTSTART:20211031T010000
END:STANDARD
END:VTIMEZONE
BEGIN:VEVENT
DTSTART;TZID=Africa/Abidjan:20201012T080000
DTEND;TZID=Africa/Abidjan:20201013T160000
DTSTAMP:20260421T141414
CREATED:20200517T081759Z
LAST-MODIFIED:20200521T084448Z
UID:1983-1602489600-1602604800@ekg-coach.de
SUMMARY:EKG-Fortbildung des IAG Dresden der DGUV
DESCRIPTION:Institut für Arbeit und Gesundheit der Deutschen Gesetzlichen Unfallversicherung lädt herzlich ein: \n2-tägige EKG-Fortbildung: Das EKG in der Betriebsärztlichen Praxis – Praxis-Seminar für Assistenzpersonal  \nAnsprechpartnerin ist: \nMartina Paulich\nSeminare für Betriebsärzte und\narbeitsmedizinisches Assistenzpersonal\nTel.: +49 30 13001-2351\nMail: martina.paulich(a)dguv.de
URL:https://ekg-coach.de/event/ekg-fortbildung-des-iag-dresden-der-dguv
LOCATION:DGUV-Akademie Dresden\, Königsbrücker Landstraße 2\, Dresden\, Sachsen\, 01109\, Deutschland
END:VEVENT
BEGIN:VEVENT
DTSTART;TZID=Europe/Berlin:20201010T090000
DTEND;TZID=Europe/Berlin:20201010T160000
DTSTAMP:20260421T141414
CREATED:20200517T075213Z
LAST-MODIFIED:20200517T075736Z
UID:1974-1602320400-1602345600@ekg-coach.de
SUMMARY:PEG-Akademie lädt ein: Grundlagen des EKG in Stuttgart
DESCRIPTION:Die PEG-Akademie lädt herzlich ein: Grundlagen des EKG in Stuttgart! \nDas Seminar ist ursprünglich mit Herrn Jürgen Häbe als Referent geplant worden und wird von mir\, nach freundlicher Anfrage seitens der PEG-Akademie\, übernommen.\nHerr Häbe hat sich mittlerweile in seinen wohlverdienten Ruhestand verabschiedet. Herzliche Grüße nach Villingen an dieser Stelle! \nNähere Informationen zum Seminar finden Sie auf folgender Seite!
URL:https://ekg-coach.de/event/peg-akademie-laedt-ein-grundlagen-des-ekg-in-stuttgart
LOCATION:Holiday Inn Hotel Stuttgart\, Mittlerer Pfad 25-27\, Stuttgart\, Baden-Württemberg\, 70499\, Deutschland
END:VEVENT
BEGIN:VEVENT
DTSTART;TZID=Europe/Berlin:20201008T090000
DTEND;TZID=Europe/Berlin:20201009T170000
DTSTAMP:20260421T141414
CREATED:20200517T072801Z
LAST-MODIFIED:20200521T090026Z
UID:1967-1602147600-1602262800@ekg-coach.de
SUMMARY:EKG-Fortbildung in St. Pölten (A)
DESCRIPTION:Fortbildungsveranstaltung der Landeskliniken-Holding Niederösterreich für Mitarbeiter der Landeskliniken-Holding \nAnsprechpartnerin ist: \nAnita König\nPersonal\nStattersdorfer Hauptstraße 6/C\, 3100 St.Pölten\nTel.: 02742/9009-11343\nFax.: 02742/9009-499\nE-Mail: anita.koenig@holding.lknoe.at \nOb die Veranstaltung wirklich stattfinden kann\, werden erst die aktuellen und zukünftigen Entwicklungen der Corona-Pandemie zeigen! Bitte informieren Sie sich zum gegebenen Zeitpunkt bei der Landeskliniken-Holding!
URL:https://ekg-coach.de/event/ekg-fortbildung-in-st-poelten-a
LOCATION:Landeskliniken-Holding Niederösterreich\, Stattersdorfer Hauptstraße 6/C\, St. Pölten\, 3100\, Österreich
ORGANIZER;CN="Landeskliniken-Holding Nieder%C3%B6sterreich":MAILTO:anita.koenig@holding.lknoe.at
END:VEVENT
BEGIN:VEVENT
DTSTART;TZID=Europe/Berlin:20200930T090000
DTEND;TZID=Europe/Berlin:20200930T160000
DTSTAMP:20260421T141414
CREATED:20200513T134315Z
LAST-MODIFIED:20200513T135055Z
UID:1893-1601456400-1601481600@ekg-coach.de
SUMMARY:EKG-Grundlagen in Düsseldorf mit Fa. Ambu
DESCRIPTION:Thema: Grundlagen des EKG \nElektrophysiologie der Herzerregung\nStandard- und Zusatzableitungen\nAnlagetechniken des EKG\nErläuterung der Beziehung Erregungsausbreitung und Ableitungsrichtung (Vektorengesetze)\nBestandteile des EKG und ihre Aussagekraft\nBlickdiagnose im EKG\nArtefakte im EKG
URL:https://ekg-coach.de/event/ekg-grundlagen-in-duesseldorf-mit-fa-ambu
LOCATION:Ambu\, Düsseldorf\, NRW\, Deutschland
ORGANIZER;CN="Ambu GmbH":MAILTO:niju@ambu.com
END:VEVENT
BEGIN:VEVENT
DTSTART;TZID=Europe/Berlin:20200925T090000
DTEND;TZID=Europe/Berlin:20200926T153000
DTSTAMP:20260421T141414
CREATED:20200513T132438Z
LAST-MODIFIED:20200513T132805Z
UID:1885-1601024400-1601134200@ekg-coach.de
SUMMARY:Workshop EEG / Evotierte Potentiale in München
DESCRIPTION:2 Workshop-Tage mit 2 Themenkomplexen\, die nicht aufeinander aufbauen! Sie können sich nach Belieben für einen oder beide Tag(e) anmelden! \nBasisworkshop EEG am 25. September 2020\nHier erfahren Sie mehr darüber! \nBasis-Workshop evozierte Potentiale am 26. September 2020\nHier erfahren Sie mehr darüber!
URL:https://ekg-coach.de/event/workshop-eeg-evotierte-potentiale-in-muenchen
LOCATION:PEG-Akademie München\, Kreillerstraße 24\, München\, Bayern\, 81673\, Deutschland
END:VEVENT
BEGIN:VEVENT
DTSTART;TZID=Europe/Berlin:20200914T083000
DTEND;TZID=Europe/Berlin:20200915T160000
DTSTAMP:20260421T141414
CREATED:20200513T125729Z
LAST-MODIFIED:20200513T125729Z
UID:1880-1600072200-1600185600@ekg-coach.de
SUMMARY:EKG-Seminar: Grundlagen / Bel.-EKG / Das path . EKG --- in Neustadt a. d. Aisch
DESCRIPTION:EKG-Fortbildung für das Klinikpersonal \nAnsprechpartnerin ist:  \nFrau Brigitte Glaubauf\nTel.: 09161 70-2726\nMail: brigitte.glaubauf(a)kliniken-nea.de
URL:https://ekg-coach.de/event/ekg-seminar-grundlagen-bel-ekg-das-path-ekg-in-neustadt-a-d-aisch
LOCATION:Klinikum Neustadt a. d. Aisch\, Paracelsusstraße 30\, Neustadt a. d. Aisch\, Bayern\, 91413\, Deutschland
END:VEVENT
BEGIN:VEVENT
DTSTART;TZID=Europe/Berlin:20200911T143000
DTEND;TZID=Europe/Berlin:20200912T150000
DTSTAMP:20260421T141414
CREATED:20200513T124407Z
LAST-MODIFIED:20200521T085135Z
UID:1876-1599834600-1599922800@ekg-coach.de
SUMMARY:EKG-Fortbildung in Frankfurt a. Main für Therapeuten
DESCRIPTION:Inhalte\n_ Anatomie des Reizbildungs- und Reizleitungssystems\n_ Elektrophysiologie des Herzens – Grundvoraussetzungen der Herztätigkeit\n_ Standard-Ableitungen im EKG und ihr praktischer Bezug zur Ergotherapie\n_ Bestandteile des EKG und ihre Bedeutung für die differenzierte EKG-Blickdiagnostik\n_ Artefakte und ihre Beseitigung\n_ Pathologische Veränderungen im EKG:\n_ Reizbildungs- und Reizleitungsstörungen\n_ Tachykarde und bradykarde Rhythmusstörungen\n_ Breite und schmale Kammerkomplexe und ihre Bedeutung für die\nEKG-Blickdiagnose\n_ Lebensbedrohliche Rhythmusstörungen\n_ Veränderungen der Erregungsrückbildung\n_ Infarktstadien und ihre typischen EKG-Veränderungen\n_ EKG-Veränderungen bei Vorder- und Hinterwandinfarkten\n_ Blickdiagnostik am EKG-Monitor mit möglicher Live-Demonstration\nam Ergometer \nHier gibt es weitere Details bei Ergoline
URL:https://ekg-coach.de/event/ekg-fortbildung-fuer-therapeuten
LOCATION:CCB Herzwerk Frankfurt\, Friedberger Landstraße 406\, Frankfurt a. Main\, Hessen\, 60389\, Deutschland
END:VEVENT
BEGIN:VEVENT
DTSTART;TZID=Europe/Berlin:20200831T083000
DTEND;TZID=Europe/Berlin:20200831T160000
DTSTAMP:20260421T141414
CREATED:20200513T120432Z
LAST-MODIFIED:20200513T120432Z
UID:1857-1598862600-1598889600@ekg-coach.de
SUMMARY:EKG-Kompakt-Seminar in Schwaan
DESCRIPTION:Inhalte des Seminars: \n–	Erläuterung des Reizbildungs- und -leitungssytems\,\n–	Standard-Ableitungen im EKG\,\n–	Bestandteile des EKG\, Erläuterung ihrer elektrophysiologischen Zuordnung\n–	Was sind Kennzeichen eines normalen EKG\n–	Schmale und breite Komplexe – Differential-Diagnose und Bedeutung\n–	Bradykarde und tachykarde Herzrhythmusstörungen\n–	Extrasystolie und ihre Einteilungen\n–	Lebensbedrohliche Tachykardien\n–	Erregungsrückbildungsstörungen – Darstellung im EKG und ihre wichtigsten Ursachen\n–	Infarkt und seine EKG-Veränderungen\n–	Wichtigste Infarktlokalisation mittels EKG
URL:https://ekg-coach.de/event/ekg-kompakt-seminar-in-schwaan
LOCATION:Schwaan\, Dr.-Friedrich-Dettmann-Weg 1\, Schwaan\, Mecklenburg-Vorpommern\, 18258\, Deutschland
END:VEVENT
BEGIN:VEVENT
DTSTART;TZID=Europe/Berlin:20200731T080000
DTEND;TZID=Europe/Berlin:20200801T140000
DTSTAMP:20260421T141414
CREATED:20200513T122919Z
LAST-MODIFIED:20200621T094203Z
UID:1863-1596182400-1596290400@ekg-coach.de
SUMMARY:Kardiologie-Süd in Neu-Ulm
DESCRIPTION:Unter folgendem Link können Sie weitere Informationen zu den Inhalten und Anmeldeformalitäten erhalten: \nZum Veranstalter: PZG-Organisation Zietemann \nAchtung: Die Veranstaltung wird aufgrund der Corona-Pandemie in diesem Jahr als Online-Fortbildung durchgeführt – Informieren Sie sich bitte hier:\nONline-Fortbildung Kardiologie-Sued
URL:https://ekg-coach.de/event/kardiologie-sued-in-neu-ulm
LOCATION:Neu-Ulm\, Silcherstraße 40\, Neu-Ulm\, Bayern\, 89231\, Deutschland
ORGANIZER;CN="PZG-Organisation Zietemann":MAILTO:management@pzg-organisation.de
END:VEVENT
END:VCALENDAR